BEGIN:VCALENDAR
VERSION:2.0
PRODID:-//.:: Recherche ::.
CALSCALE:GREGORIAN
METHOD:PUBLISH
X-WR-CALNAME:.:: Recherche ::.
X-ORIGINAL-URL:https://rsi.umi.ac.ma/event/appui-aux-publications-scientifiques-indexees/
X-WR-CALDESC:APPUI AUX PUBLICATIONS SCIENTIFIQUES INDEXEES
BEGIN:VEVENT
DTSTART:20220919T000000
DTEND:20221019T000000
SUMMARY:APPUI AUX PUBLICATIONS SCIENTIFIQUES INDEXEES
DESCRIPTION:
LOCATION:
END:VEVENT
END:VCALENDAR
